BEGIN:VCALENDAR
PRODID:RAVE.CA V17.0
X-WR-CALNAME:Vodka Attitude Part 3
X-ORIGINAL-URL:https://www.rave.ca/event/14931/
VERSION:2.0
CALSCALE:GREGORIAN
METHOD:PUBLISH
BEGIN:VEVENT
DTSTAMP:20070114T004805Z
LAST-MODIFIED:20070114T004805Z
CREATED:20070114T004248Z
SEQUENCE:14931
ORGANIZER:Unknown
DTSTART:20070117T220000Z
DTEND:20070117T220000Z
UID:event_14931@rave.ca
SUMMARY:Vodka Attitude Part 3
LOCATION:House\, Club
URL:https://www.rave.ca/event/14931/
DESCRIPTION:Open bar for ladies before 12\n26 oz vodka: 80$ all night\n40 oz vodka: 10$ all night
CLASS:PUBLIC
CATEGORIES:
STATUS:CONFIRMED
PARTSTAT:ACCEPTED
END:VEVENT
END:VCALENDAR
