BEGIN:VCALENDAR
PRODID:RAVE.CA V17.0
X-WR-CALNAME:Sweet N Sour
X-ORIGINAL-URL:https://www.rave.ca/event/14924/
VERSION:2.0
CALSCALE:GREGORIAN
METHOD:PUBLISH
BEGIN:VEVENT
DTSTAMP:20070117T172212Z
LAST-MODIFIED:20070117T172212Z
CREATED:20070112T124658Z
SEQUENCE:14924
ORGANIZER:Unknown
DTSTART:20070111T210000Z
DTEND:20070111T030000Z
UID:event_14924@rave.ca
SUMMARY:Sweet N Sour
LOCATION:Foufounes Electriques
URL:https://www.rave.ca/event/14924/
DESCRIPTION:La soirée des dames vous offre quatre consommations gratuites pour un prix d’entrée de 4.00$. Pour messieurs la bière est en vente à 2.75$
CLASS:PUBLIC
CATEGORIES:
STATUS:CONFIRMED
PARTSTAT:ACCEPTED
END:VEVENT
END:VCALENDAR
