BEGIN:VCALENDAR
PRODID:RAVE.CA V17.0
X-WR-CALNAME:Panorama: Bender&#039;s B-Day bash 5hrs set
X-ORIGINAL-URL:https://www.rave.ca/event/14922/
VERSION:2.0
CALSCALE:GREGORIAN
METHOD:PUBLISH
BEGIN:VEVENT
DTSTAMP:20070525T112953Z
LAST-MODIFIED:20070525T112953Z
CREATED:20070112T103057Z
SEQUENCE:14922
ORGANIZER:Unknown
DTSTART:20070210T220000Z
DTEND:20070210T220000Z
UID:event_14922@rave.ca
SUMMARY:Panorama: Bender's B-Day bash 5hrs set
LOCATION:Mile End Bar
URL:https://www.rave.ca/event/14922/
DESCRIPTION:
CLASS:PUBLIC
CATEGORIES:
STATUS:CONFIRMED
PARTSTAT:ACCEPTED
END:VEVENT
END:VCALENDAR
