BEGIN:VCALENDAR
PRODID:RAVE.CA V17.0
X-WR-CALNAME:Stephan Grondin@Parking
X-ORIGINAL-URL:https://www.rave.ca/event/14917/
VERSION:2.0
CALSCALE:GREGORIAN
METHOD:PUBLISH
BEGIN:VEVENT
DTSTAMP:20070111T183319Z
LAST-MODIFIED:20070111T183319Z
CREATED:20070111T183310Z
SEQUENCE:14917
ORGANIZER:Unknown
DTSTART:20061229T000000Z
DTEND:20061229T000000Z
UID:event_14917@rave.ca
SUMMARY:Stephan Grondin@Parking
LOCATION:Unknown
URL:https://www.rave.ca/event/14917/
DESCRIPTION:www.parkingbar.com
CLASS:PUBLIC
CATEGORIES:
STATUS:CONFIRMED
PARTSTAT:ACCEPTED
END:VEVENT
END:VCALENDAR
