BEGIN:VCALENDAR
PRODID:RAVE.CA V17.0
X-WR-CALNAME:Stank
X-ORIGINAL-URL:https://www.rave.ca/event/14902/
VERSION:2.0
CALSCALE:GREGORIAN
METHOD:PUBLISH
BEGIN:VEVENT
DTSTAMP:20070117T071513Z
LAST-MODIFIED:20070117T071513Z
CREATED:20070110T065758Z
SEQUENCE:14902
ORGANIZER:Unknown
DTSTART:20070224T200000Z
DTEND:20070225T080000Z
UID:event_14902@rave.ca
SUMMARY:Stank
LOCATION:Unknown
URL:https://www.rave.ca/event/14902/
DESCRIPTION:Port City Production presents...\n\nSTANK (perviously Skank\, haha!)\n\nFeb. 24th 2007 @ 11pm-6am\n\nFeaturing:\n\nMr. Ricardo \nSteve the Viking \nIsis \nMyagi \nDJ Bolivia \n\n\nMore info and Flyer to come...
CLASS:PUBLIC
CATEGORIES:
STATUS:CONFIRMED
PARTSTAT:ACCEPTED
END:VEVENT
END:VCALENDAR
