BEGIN:VCALENDAR
PRODID:RAVE.CA V17.0
X-WR-CALNAME:Dj Mancini
X-ORIGINAL-URL:https://www.rave.ca/event/14885/
VERSION:2.0
CALSCALE:GREGORIAN
METHOD:PUBLISH
BEGIN:VEVENT
DTSTAMP:20070527T190744Z
LAST-MODIFIED:20070527T190744Z
CREATED:20070108T164715Z
SEQUENCE:14885
ORGANIZER:Unknown
DTSTART:20070113T020000Z
DTEND:20070113T100000Z
UID:event_14885@rave.ca
SUMMARY:Dj Mancini
LOCATION:Existenz\, Afterhours
URL:https://www.rave.ca/event/14885/
DESCRIPTION:
CLASS:PUBLIC
CATEGORIES:
STATUS:CONFIRMED
PARTSTAT:ACCEPTED
END:VEVENT
END:VCALENDAR
