BEGIN:VCALENDAR
PRODID:RAVE.CA V17.0
X-WR-CALNAME:Dk Nite
X-ORIGINAL-URL:https://www.rave.ca/event/14884/
VERSION:2.0
CALSCALE:GREGORIAN
METHOD:PUBLISH
BEGIN:VEVENT
DTSTAMP:20070108T182357Z
LAST-MODIFIED:20070108T182357Z
CREATED:20070108T151127Z
SEQUENCE:14884
ORGANIZER:psy-bucheron prod / lumberjacks records
DTSTART:20070108T220000Z
DTEND:20070108T220000Z
UID:event_14884@rave.ca
SUMMARY:Dk Nite
LOCATION:Cafe Chaos
URL:https://www.rave.ca/event/14884/
DESCRIPTION:soire techno industrielle\, un peu de tout mais avec une sonorite industrielle
CLASS:PUBLIC
CATEGORIES:
STATUS:CONFIRMED
PARTSTAT:ACCEPTED
END:VEVENT
END:VCALENDAR
