BEGIN:VCALENDAR
PRODID:RAVE.CA V17.0
X-WR-CALNAME:Emotion
X-ORIGINAL-URL:https://www.rave.ca/event/14878/
VERSION:2.0
CALSCALE:GREGORIAN
METHOD:PUBLISH
BEGIN:VEVENT
DTSTAMP:20070107T151220Z
LAST-MODIFIED:20070107T151220Z
CREATED:20070107T150933Z
SEQUENCE:14878
ORGANIZER:Unknown
DTSTART:20070216T200000Z
DTEND:20070217T020000Z
UID:event_14878@rave.ca
SUMMARY:Emotion
LOCATION:Saw\, Club
URL:https://www.rave.ca/event/14878/
DESCRIPTION:Unfamiliar Ceilings presents:\n\nEmotion\n\nFeaturing:\n\nphaXis aka phosphor\n(Hard acid techno) - www.WarningRecords.net / Blizzard Tracks\n\nTampered DNA\n(Goa/Buttrock) - 7th Harmonic / Mind Candy (NY) / www.DI.fm / philosomatika.com\n\nHip-Hop vs. N-Dub feat. E=MC\n(Jungle/DnB) - 1upped Productions vs. Sugarcane Soundboys / The Mofrunk Crew\n\nEnver 'Redeyz' Pletilic\n(Electro) - Digital Ecstasy / Sundaze\n\nAShley D\n(Hard/Acid techno) - Sweet Leaf Productions\n\nDain-Ja\n(Oldskool happy hardcore) - 1upped Productions / HardcoreRegime.co.uk / UGZ / Raver inc.
CLASS:PUBLIC
CATEGORIES:
STATUS:CONFIRMED
PARTSTAT:ACCEPTED
END:VEVENT
END:VCALENDAR
