BEGIN:VCALENDAR
PRODID:RAVE.CA V17.0
X-WR-CALNAME:Minimal Electro Tech night with DJ Franck Further
X-ORIGINAL-URL:https://www.rave.ca/event/14853/
VERSION:2.0
CALSCALE:GREGORIAN
METHOD:PUBLISH
BEGIN:VEVENT
DTSTAMP:20070104T142456Z
LAST-MODIFIED:20070104T142456Z
CREATED:20070104T142405Z
SEQUENCE:14853
ORGANIZER:Unknown
DTSTART:20070104T170000Z
DTEND:20070104T190000Z
UID:event_14853@rave.ca
SUMMARY:Minimal Electro Tech night with DJ Franck Further
LOCATION:Unknown
URL:https://www.rave.ca/event/14853/
DESCRIPTION:Franck Further At the "Zinc" Thursday And Friday 5 to 7pm (at least!) 1148 MontRoyal Est\, Bring your Ass on The Dance Floor If you want A New Minimal Electro Tech \nBar! Let's Blow out the place!
CLASS:PUBLIC
CATEGORIES:
STATUS:CONFIRMED
PARTSTAT:ACCEPTED
END:VEVENT
END:VCALENDAR
