BEGIN:VCALENDAR
PRODID:RAVE.CA V17.0
X-WR-CALNAME:Lafter Dark
X-ORIGINAL-URL:https://www.rave.ca/event/14850/
VERSION:2.0
CALSCALE:GREGORIAN
METHOD:PUBLISH
BEGIN:VEVENT
DTSTAMP:20070525T112702Z
LAST-MODIFIED:20070525T112702Z
CREATED:20070103T223141Z
SEQUENCE:14850
ORGANIZER:Unknown
DTSTART:20070203T210000Z
DTEND:20070204T100000Z
UID:event_14850@rave.ca
SUMMARY:Lafter Dark
LOCATION:Existenz\, Afterhours
URL:https://www.rave.ca/event/14850/
DESCRIPTION:venez fêter le 3 iem anniversaire du club lafter dark.\n2 party en 1\nwet t shirt a lafter dark. spéciale invité \nDj Mancini ± Dj invité\nA la fermeture du bar toute le monde \nce ramasse a Exsitenz avec dj Mancini et dj J.S \nde lafter dark\nprévente 8$ ou 10$ a porte ceci inclu les 2 entré des club\nbillet en vente au 2 club ou pour réserver dj_mancini13@hotmail.com
CLASS:PUBLIC
CATEGORIES:
STATUS:CONFIRMED
PARTSTAT:ACCEPTED
END:VEVENT
END:VCALENDAR
