BEGIN:VCALENDAR
PRODID:RAVE.CA V17.0
X-WR-CALNAME:Rap Superstars: MIG (Bmc)+ Doc Dee+ Soul Jakin&#039;+ Otages+ Lyna-Lune+ 3dk+ Rbh
X-ORIGINAL-URL:https://www.rave.ca/event/14845/
VERSION:2.0
CALSCALE:GREGORIAN
METHOD:PUBLISH
BEGIN:VEVENT
DTSTAMP:20070103T141547Z
LAST-MODIFIED:20070103T141547Z
CREATED:20070103T141321Z
SEQUENCE:14845
ORGANIZER:BMC Musique
DTSTART:20070127T200000Z
DTEND:20070127T220000Z
UID:event_14845@rave.ca
SUMMARY:Rap Superstars: MIG (Bmc)+ Doc Dee+ Soul Jakin'+ Otages+ Lyna-Lune+ 3dk+ Rbh
LOCATION:Bar Le Saint-Laurent 2
URL:https://www.rave.ca/event/14845/
DESCRIPTION:www.forum.bmcmusique.com
CLASS:PUBLIC
CATEGORIES:
STATUS:CONFIRMED
PARTSTAT:ACCEPTED
END:VEVENT
END:VCALENDAR
