BEGIN:VCALENDAR
PRODID:RAVE.CA V17.0
X-WR-CALNAME:Telephunk: Soundshaper
X-ORIGINAL-URL:https://www.rave.ca/event/14844/
VERSION:2.0
CALSCALE:GREGORIAN
METHOD:PUBLISH
BEGIN:VEVENT
DTSTAMP:20070129T181619Z
LAST-MODIFIED:20070129T181619Z
CREATED:20070103T140353Z
SEQUENCE:14844
ORGANIZER:Microzoo
DTSTART:20070130T220000Z
DTEND:20070130T030000Z
UID:event_14844@rave.ca
SUMMARY:Telephunk: Soundshaper
LOCATION:Salon Daome
URL:https://www.rave.ca/event/14844/
DESCRIPTION:This January 30th\, Microzoo resident Soundshaper takes over the helm at\nSalon DaomÃ©.  With years of experience behind him\, you can rest assured that\nThe Shaper of Sound will take every precaution necessary and steer clear of\nmusical icebergs.\n\nThis will be a 5-star luxury tropical cruise through a long week of icy hell.  Don't miss the boat!\n\nSoundshaper is a veteran DJ whose vast musical knowledge has allowed him to evolve through a wide variety of musical genres.  He doesn't just use the\nmixer\, he plays it like an instrument\, truly shaping the sound to serve his purpose.
CLASS:PUBLIC
CATEGORIES:
STATUS:CONFIRMED
PARTSTAT:ACCEPTED
END:VEVENT
END:VCALENDAR
