BEGIN:VCALENDAR
PRODID:RAVE.CA V17.0
X-WR-CALNAME:All That Remains et invites
X-ORIGINAL-URL:https://www.rave.ca/event/14815/
VERSION:2.0
CALSCALE:GREGORIAN
METHOD:PUBLISH
BEGIN:VEVENT
DTSTAMP:20061231T022239Z
LAST-MODIFIED:20061231T022239Z
CREATED:20061231T021843Z
SEQUENCE:14815
ORGANIZER:Unknown
DTSTART:20070219T193000Z
DTEND:20070219T230000Z
UID:event_14815@rave.ca
SUMMARY:All That Remains et invites
LOCATION:Club Soda
URL:https://www.rave.ca/event/14815/
DESCRIPTION:
CLASS:PUBLIC
CATEGORIES:
STATUS:CONFIRMED
PARTSTAT:ACCEPTED
END:VEVENT
END:VCALENDAR
