BEGIN:VCALENDAR
PRODID:RAVE.CA V17.0
X-WR-CALNAME:Ash Lee Blade
X-ORIGINAL-URL:https://www.rave.ca/event/14806/
VERSION:2.0
CALSCALE:GREGORIAN
METHOD:PUBLISH
BEGIN:VEVENT
DTSTAMP:20061229T110502Z
LAST-MODIFIED:20061229T110502Z
CREATED:20061229T110316Z
SEQUENCE:14806
ORGANIZER:Unknown
DTSTART:20070113T210000Z
DTEND:20070114T030000Z
UID:event_14806@rave.ca
SUMMARY:Ash Lee Blade
LOCATION:Barfly
URL:https://www.rave.ca/event/14806/
DESCRIPTION:ASH LEE BLADE comes back to MONTREAL!! Playing with Hounds Of Hell and Jerk Appeal!
CLASS:PUBLIC
CATEGORIES:
STATUS:CONFIRMED
PARTSTAT:ACCEPTED
END:VEVENT
END:VCALENDAR
