BEGIN:VCALENDAR
PRODID:RAVE.CA V17.0
X-WR-CALNAME:Fetish 4Play with DJ Davide
X-ORIGINAL-URL:https://www.rave.ca/event/14803/
VERSION:2.0
CALSCALE:GREGORIAN
METHOD:PUBLISH
BEGIN:VEVENT
DTSTAMP:20061229T004419Z
LAST-MODIFIED:20061229T004419Z
CREATED:20061229T002510Z
SEQUENCE:14803
ORGANIZER:Unknown
DTSTART:20061229T220000Z
DTEND:20061230T030000Z
UID:event_14803@rave.ca
SUMMARY:Fetish 4Play with DJ Davide
LOCATION:Unknown
URL:https://www.rave.ca/event/14803/
DESCRIPTION:Fetish party @ club Toolz 1592 Ste. Catherine E. metro Papineau\n\nSpecial guest DJ Davide\n\nEvery last Friday of the month / Le dernier vendredi de chaque mois. \n\nDANCE\, CHAT\, WATCH\, PLAY AND PARTY ALL NIGHT\, UNTIL WE KICK YOU OUT.\n\nDANCEZ\, JASEZ\, REGARDER\, JOUEZ ET FAITES LA FÊTE JUSQU'À CE QU'ON VOUS METTE À LA PORTE.\n\nFor more info --> www.fetish4play.com
CLASS:PUBLIC
CATEGORIES:
STATUS:CONFIRMED
PARTSTAT:ACCEPTED
END:VEVENT
END:VCALENDAR
