BEGIN:VCALENDAR
PRODID:RAVE.CA V17.0
X-WR-CALNAME:Psy NYE 2007  -  DJ Akat - DJ Expanding Conscience
X-ORIGINAL-URL:https://www.rave.ca/event/14801/
VERSION:2.0
CALSCALE:GREGORIAN
METHOD:PUBLISH
BEGIN:VEVENT
DTSTAMP:20061231T152938Z
LAST-MODIFIED:20061231T152938Z
CREATED:20061228T223622Z
SEQUENCE:14801
ORGANIZER:Unknown
DTSTART:20061231T210000Z
DTEND:20061231T210000Z
UID:event_14801@rave.ca
SUMMARY:Psy NYE 2007  -  DJ Akat - DJ Expanding Conscience
LOCATION:Unknown
URL:https://www.rave.ca/event/14801/
DESCRIPTION:location:st- denis 1749\nBar Saint Bock\nfrom: 09:00 pm\nto: 03:00 am\n\nno cover!\n\nafter we are all going to SOMA to danse like crazy !!
CLASS:PUBLIC
CATEGORIES:
STATUS:CONFIRMED
PARTSTAT:ACCEPTED
END:VEVENT
END:VCALENDAR
