BEGIN:VCALENDAR
PRODID:RAVE.CA V17.0
X-WR-CALNAME:B4  after party
X-ORIGINAL-URL:https://www.rave.ca/event/14798/
VERSION:2.0
CALSCALE:GREGORIAN
METHOD:PUBLISH
BEGIN:VEVENT
DTSTAMP:20061229T083418Z
LAST-MODIFIED:20061229T083418Z
CREATED:20061228T201842Z
SEQUENCE:14798
ORGANIZER:Unknown
DTSTART:20061230T100000Z
DTEND:20061230T220000Z
UID:event_14798@rave.ca
SUMMARY:B4  after party
LOCATION:le Chill Montréal
URL:https://www.rave.ca/event/14798/
DESCRIPTION:10:00am-22:00pm day party  entrée 10$ avecune bouteille\nd'eau
CLASS:PUBLIC
CATEGORIES:
STATUS:CONFIRMED
PARTSTAT:ACCEPTED
END:VEVENT
END:VCALENDAR
