BEGIN:VCALENDAR
PRODID:RAVE.CA V17.0
X-WR-CALNAME:Beat Me Up: Mad-Kiloz + Mz Sunday Luv &amp; Medouckasor (Live)
X-ORIGINAL-URL:https://www.rave.ca/event/14796/
VERSION:2.0
CALSCALE:GREGORIAN
METHOD:PUBLISH
BEGIN:VEVENT
DTSTAMP:20070315T004825Z
LAST-MODIFIED:20070315T004825Z
CREATED:20061228T193705Z
SEQUENCE:14796
ORGANIZER:Unknown
DTSTART:20070121T220000Z
DTEND:20070122T030000Z
UID:event_14796@rave.ca
SUMMARY:Beat Me Up: Mad-Kiloz + Mz Sunday Luv & Medouckasor (Live)
LOCATION:Saphir\, Club
URL:https://www.rave.ca/event/14796/
DESCRIPTION:!!!!!!!!!! MEDOUCKSASOR LIVE !!!!!!!!!\n\n     !!!!!!!!! FOLLOWED BY HARD ELECTRO TECH SET BY MAD - KILOZ !!!!!\n\nFor more info + Music From  MAD-KILOZ check out\n\nneurotik.org             or       http://www.myspace.com/madkilozsourd6tmzntk
CLASS:PUBLIC
CATEGORIES:
STATUS:CONFIRMED
PARTSTAT:ACCEPTED
END:VEVENT
END:VCALENDAR
