BEGIN:VCALENDAR
PRODID:RAVE.CA V17.0
X-WR-CALNAME:No Excuse, Bender, Maher Daniel
X-ORIGINAL-URL:https://www.rave.ca/event/14789/
VERSION:2.0
CALSCALE:GREGORIAN
METHOD:PUBLISH
BEGIN:VEVENT
DTSTAMP:20070107T133044Z
LAST-MODIFIED:20070107T133044Z
CREATED:20061228T140704Z
SEQUENCE:14789
ORGANIZER:Unknown
DTSTART:20070114T220000Z
DTEND:20070114T220000Z
UID:event_14789@rave.ca
SUMMARY:No Excuse\, Bender\, Maher Daniel
LOCATION:Stereo Bar
URL:https://www.rave.ca/event/14789/
DESCRIPTION:
CLASS:PUBLIC
CATEGORIES:
STATUS:CONFIRMED
PARTSTAT:ACCEPTED
END:VEVENT
END:VCALENDAR
