BEGIN:VCALENDAR
PRODID:RAVE.CA V17.0
X-WR-CALNAME:La Boom 2006
X-ORIGINAL-URL:https://www.rave.ca/event/14782/
VERSION:2.0
CALSCALE:GREGORIAN
METHOD:PUBLISH
BEGIN:VEVENT
DTSTAMP:20061227T210742Z
LAST-MODIFIED:20061227T210742Z
CREATED:20061227T204245Z
SEQUENCE:14782
ORGANIZER:Unknown
DTSTART:20061228T220000Z
DTEND:20061229T030000Z
UID:event_14782@rave.ca
SUMMARY:La Boom 2006
LOCATION:Monkey    (Ste-Foy)
URL:https://www.rave.ca/event/14782/
DESCRIPTION:
CLASS:PUBLIC
CATEGORIES:
STATUS:CONFIRMED
PARTSTAT:ACCEPTED
END:VEVENT
END:VCALENDAR
