BEGIN:VCALENDAR
PRODID:RAVE.CA V17.0
X-WR-CALNAME:Renegade Hardware: Revelations
X-ORIGINAL-URL:https://www.rave.ca/event/14773/
VERSION:2.0
CALSCALE:GREGORIAN
METHOD:PUBLISH
BEGIN:VEVENT
DTSTAMP:20061224T004907Z
LAST-MODIFIED:20061224T004907Z
CREATED:20061224T004636Z
SEQUENCE:14773
ORGANIZER:Unknown
DTSTART:20061229T210000Z
DTEND:20061229T030000Z
UID:event_14773@rave.ca
SUMMARY:Renegade Hardware: Revelations
LOCATION:Babylon\, Club
URL:https://www.rave.ca/event/14773/
DESCRIPTION:Vibes Duty\, Simple Tings\, Badman Press bring you...\n\nThe last Drum & Bass show of the year\, this ones HUGE!\nRenegade Hardware is coming into Ottawa full force! Promoting the new double CD on Renegade Hardware\, "The Horsemen Present Revelations" [Link] - We have 3 of the biggest DNB names coming to smash the place down! Friske will be making his Ottawa debut to tag with a long overdue return of Gremlinz.\n\nAlso joining the show from Toronto\, is Booty & Ghettotech favourite\, Phil Atio! Fathers\, lock your daughters up - he's back!\n\nFriske (UK) - Renegade Hardware [DNB] [Link]\nGremlinz (Toronto) - Renegade Hardware\, Metalheadz [DNB] [Link]\nThe Fix/Counterweight - Renegade Hardware\, Vibez\, 13 Music [DNB] [Link]\nPhil Atio (Toronto) [Ghettotech/Booty/Dubstep] [Link]\nbowzer [Dubstep] [Link]\n\nMore info on the night coming soon\, stay locked!\n\nGenres: Drum & Bass / Ghettotech & Booty / Dubstep\nStarts @ 10:30pm\, Babylon Nightclub - 317 Bank St. Ottawa.\nPrice: $5 before 11:30pm\, $8 after
CLASS:PUBLIC
CATEGORIES:
STATUS:CONFIRMED
PARTSTAT:ACCEPTED
END:VEVENT
END:VCALENDAR
