BEGIN:VCALENDAR
PRODID:RAVE.CA V17.0
X-WR-CALNAME:Freakynat&#039;s Orphan X-Mas Party!
X-ORIGINAL-URL:https://www.rave.ca/event/14756/
VERSION:2.0
CALSCALE:GREGORIAN
METHOD:PUBLISH
BEGIN:VEVENT
DTSTAMP:20061222T183139Z
LAST-MODIFIED:20061222T183139Z
CREATED:20061219T033038Z
SEQUENCE:14756
ORGANIZER:Unknown
DTSTART:20061225T220000Z
DTEND:20061226T050000Z
UID:event_14756@rave.ca
SUMMARY:Freakynat's Orphan X-Mas Party!
LOCATION:Passeport\, Club
URL:https://www.rave.ca/event/14756/
DESCRIPTION:It's X-Mas night at Passeport\, have you been naughty or nice? Or are you just so sick of spending the day with family & relatives that you feel the need to go out somewhere?\n\nThen on Christmas night (Monday December 25th)\, head on over to Passeport (4156 St.Denis\, Montreal\, Quebec) for an extremely untraditional X-mas party. The event begins at 10PM \n\nFreakynat is Santa for the evening\, so sit on her lap and take a picture. A pic will cost you $3 but you get a free shooter with it.\n\nDJ Mr.Black spins party music all night long.
CLASS:PUBLIC
CATEGORIES:
STATUS:CONFIRMED
PARTSTAT:ACCEPTED
END:VEVENT
END:VCALENDAR
