BEGIN:VCALENDAR
PRODID:RAVE.CA V17.0
X-WR-CALNAME:Jeff Milligan, Jap, Jamie Kidd, Terence Kissner
X-ORIGINAL-URL:https://www.rave.ca/event/14751/
VERSION:2.0
CALSCALE:GREGORIAN
METHOD:PUBLISH
BEGIN:VEVENT
DTSTAMP:20090309T004831Z
LAST-MODIFIED:20090309T004831Z
CREATED:20061218T140037Z
SEQUENCE:14751
ORGANIZER:Unknown
DTSTART:20061231T220000Z
DTEND:20061231T220000Z
UID:event_14751@rave.ca
SUMMARY:Jeff Milligan\, Jap\, Jamie Kidd\, Terence Kissner
LOCATION:Unknown
URL:https://www.rave.ca/event/14751/
DESCRIPTION:Tempo//New Years Eve @ Opium - 222 Richmond St\nLimited advanced tickets $10 - more @ door\n10pm - 5am
CLASS:PUBLIC
CATEGORIES:
STATUS:CONFIRMED
PARTSTAT:ACCEPTED
END:VEVENT
END:VCALENDAR
