BEGIN:VCALENDAR
PRODID:RAVE.CA V17.0
X-WR-CALNAME:MIG(bmc), Lez Affrenchis, Doc Dee, MondKyPhunk, 3dk, Soul Jackin&#039;, Dope Family,
X-ORIGINAL-URL:https://www.rave.ca/event/14719/
VERSION:2.0
CALSCALE:GREGORIAN
METHOD:PUBLISH
BEGIN:VEVENT
DTSTAMP:20061214T214953Z
LAST-MODIFIED:20061214T214953Z
CREATED:20061214T214852Z
SEQUENCE:14719
ORGANIZER:Unknown
DTSTART:20061229T200000Z
DTEND:20061229T234500Z
UID:event_14719@rave.ca
SUMMARY:MIG(bmc)\, Lez Affrenchis\, Doc Dee\, MondKyPhunk\, 3dk\, Soul Jackin'\, Dope Family\,
LOCATION:Cafe Chaos
URL:https://www.rave.ca/event/14719/
DESCRIPTION:http://www.forum.bmcmusique.com
CLASS:PUBLIC
CATEGORIES:
STATUS:CONFIRMED
PARTSTAT:ACCEPTED
END:VEVENT
END:VCALENDAR
