BEGIN:VCALENDAR
PRODID:RAVE.CA V17.0
X-WR-CALNAME:Leave In House
X-ORIGINAL-URL:https://www.rave.ca/event/14716/
VERSION:2.0
CALSCALE:GREGORIAN
METHOD:PUBLISH
BEGIN:VEVENT
DTSTAMP:20070325T092150Z
LAST-MODIFIED:20070325T092150Z
CREATED:20061214T011008Z
SEQUENCE:14716
ORGANIZER:Unknown
DTSTART:20070224T000000Z
DTEND:20070225T100000Z
UID:event_14716@rave.ca
SUMMARY:Leave In House
LOCATION:Grooves Night Club 1375 Boul Ste-Foy Longueuil
URL:https://www.rave.ca/event/14716/
DESCRIPTION:Bonjour a tous ! Il est maintenant l'heure de vous dire ou le party va se dérouler :\n\nAu Grooves Night Club 1375 Boulevard Ste-Foy Longueuil \n\navant de vous prononcer \, prenez le temps de venir voir de par vous meme . La salle a été rénové  et elle est tres confortable je peux vous le garantir\n\nEn sortant du Pont Jacques Cartier \, prendre la 134 Boul Tashereau \,prendre la sortie Curé-Poirier continuer jusqu'au viaduc \, tourner a gauche \, passer sous le viaduc \, tourner encore a gauche tout de suite apres le viaduc \, continuer  sur la voie de service du boul Tashereau ca va etre tout suite apres le Esso \, tourner a votre droite ce sera le 1er edifice a votre gauche \, en face du Benny : Au Grooves Night Club .\n\n\n\nEn passant \, surveiller ou vous laisserai votre auto \, car vous pourriez avoir une contravention le lendemain matin .\nBien hate de tous vous voir \, venez vous amusez en grand nombres !!!!!!!!!!!!!!!!!!!!!!!\n\nLes portes ouvrent a minuit Merci\n\n\n\n\n\nBonjour a tous !\nil me fait plaisir de vous annoncer l'évènement Leave In House a saveur House\, House Tribal et House progressif Samedi le 24 Fev 2006 de 00.00 a 10.00 Voici le line-up des djs:
CLASS:PUBLIC
CATEGORIES:
STATUS:CONFIRMED
PARTSTAT:ACCEPTED
END:VEVENT
END:VCALENDAR
