BEGIN:VCALENDAR
PRODID:RAVE.CA V17.0
X-WR-CALNAME:Back to the Groove
X-ORIGINAL-URL:https://www.rave.ca/event/14715/
VERSION:2.0
CALSCALE:GREGORIAN
METHOD:PUBLISH
BEGIN:VEVENT
DTSTAMP:20080519T175557Z
LAST-MODIFIED:20080519T175557Z
CREATED:20061213T192025Z
SEQUENCE:14715
ORGANIZER:Synergy Canada
DTSTART:20070331T230000Z
DTEND:20070401T090000Z
UID:event_14715@rave.ca
SUMMARY:Back to the Groove
LOCATION:New Underground Factory Venue
URL:https://www.rave.ca/event/14715/
DESCRIPTION:http://www.backtothegroove.com\n\n\nProject Mayhem and Synergy proudly present Back to the Groove\, on march 31st. This will no doubt be the biggest hardcore party Montreal as seen in the last year. You don't want to miss this!\n\nRoom 1: Happyfastbestsinyohead\n\nLUNA-C uk\nVIRUS & SCOOTS Toronto\nCYRE Quebec city\nDAIN-JA Ottawa\n\nand locals\nTIPSY T\nSCREWHEAD\nMATDUKE & DON LOUIS\nMATRICKS & SINETIX\nSEISMIK\nNITROUS\nMETZEN\n\n\nRoom 2: Technobreakintrancetimes\n\nENDO Boston\nTONY BENINO San Fransisco\nJEAN LUKE PICARD Czech Republic\nROB BLACK Ottawa\n\nand locals\nEMM & DOC SAVAGE\nSARCASTIC & RHYS TAYLOR\nDRIXEL\nTOLTECH\nTIPSY T (funky house set)\nGALAKSY
CLASS:PUBLIC
CATEGORIES:
STATUS:CONFIRMED
PARTSTAT:ACCEPTED
END:VEVENT
END:VCALENDAR
