BEGIN:VCALENDAR
PRODID:RAVE.CA V17.0
X-WR-CALNAME:Finity 2007
X-ORIGINAL-URL:https://www.rave.ca/event/14702/
VERSION:2.0
CALSCALE:GREGORIAN
METHOD:PUBLISH
BEGIN:VEVENT
DTSTAMP:20061211T124259Z
LAST-MODIFIED:20061211T124259Z
CREATED:20061211T124210Z
SEQUENCE:14702
ORGANIZER:Coco Entertainment Canada
DTSTART:20070101T220000Z
DTEND:20070102T030000Z
UID:event_14702@rave.ca
SUMMARY:Finity 2007
LOCATION:1234\, Club
URL:https://www.rave.ca/event/14702/
DESCRIPTION:
CLASS:PUBLIC
CATEGORIES:
STATUS:CONFIRMED
PARTSTAT:ACCEPTED
END:VEVENT
END:VCALENDAR
