BEGIN:VCALENDAR
PRODID:RAVE.CA V17.0
X-WR-CALNAME:Yantra
X-ORIGINAL-URL:https://www.rave.ca/event/147/
VERSION:2.0
CALSCALE:GREGORIAN
METHOD:PUBLISH
BEGIN:VEVENT
DTSTAMP:20040325T010000Z
LAST-MODIFIED:20040325T010000Z
CREATED:20001006T000000Z
SEQUENCE:147
ORGANIZER:Trance 5000
DTSTART:20001006T000000Z
DTEND:20001006T000000Z
UID:event_147@rave.ca
SUMMARY:Yantra
LOCATION:57 Prince Arthur E.
URL:https://www.rave.ca/event/147/
DESCRIPTION:
CLASS:PUBLIC
CATEGORIES:
STATUS:CONFIRMED
PARTSTAT:ACCEPTED
END:VEVENT
END:VCALENDAR
