BEGIN:VCALENDAR
PRODID:RAVE.CA V17.0
X-WR-CALNAME:Baile MTL avec Maga Bo (style DJ Rupture)
X-ORIGINAL-URL:https://www.rave.ca/event/14696/
VERSION:2.0
CALSCALE:GREGORIAN
METHOD:PUBLISH
BEGIN:VEVENT
DTSTAMP:20061215T104009Z
LAST-MODIFIED:20061215T104009Z
CREATED:20061208T223519Z
SEQUENCE:14696
ORGANIZER:Unknown
DTSTART:20061229T220000Z
DTEND:20061229T220000Z
UID:event_14696@rave.ca
SUMMARY:Baile MTL avec Maga Bo (style DJ Rupture)
LOCATION:Unknown
URL:https://www.rave.ca/event/14696/
DESCRIPTION:Maga Bo is working with people like DJ Rupture\, Filastine or Ghislain Poirier and he's an inspiration for many djs\, Diplo among others. He will release a mixtape called Confusion of Tongues on Soot Records in february 2007.
CLASS:PUBLIC
CATEGORIES:
STATUS:CONFIRMED
PARTSTAT:ACCEPTED
END:VEVENT
END:VCALENDAR
