BEGIN:VCALENDAR
PRODID:RAVE.CA V17.0
X-WR-CALNAME:Rise Against
X-ORIGINAL-URL:https://www.rave.ca/event/14690/
VERSION:2.0
CALSCALE:GREGORIAN
METHOD:PUBLISH
BEGIN:VEVENT
DTSTAMP:20061208T124642Z
LAST-MODIFIED:20061208T124642Z
CREATED:20061208T124524Z
SEQUENCE:14690
ORGANIZER:Unknown
DTSTART:20070205T000000Z
DTEND:20070205T000000Z
UID:event_14690@rave.ca
SUMMARY:Rise Against
LOCATION:Centre Bell
URL:https://www.rave.ca/event/14690/
DESCRIPTION:
CLASS:PUBLIC
CATEGORIES:
STATUS:CONFIRMED
PARTSTAT:ACCEPTED
END:VEVENT
END:VCALENDAR
