BEGIN:VCALENDAR
PRODID:RAVE.CA V17.0
X-WR-CALNAME:Soultek session with Uzi and B&#039;Ugo
X-ORIGINAL-URL:https://www.rave.ca/event/14682/
VERSION:2.0
CALSCALE:GREGORIAN
METHOD:PUBLISH
BEGIN:VEVENT
DTSTAMP:20061228T142909Z
LAST-MODIFIED:20061228T142909Z
CREATED:20061207T102632Z
SEQUENCE:14682
ORGANIZER:Unknown
DTSTART:20061229T220000Z
DTEND:20061230T030000Z
UID:event_14682@rave.ca
SUMMARY:Soultek session with Uzi and B'Ugo
LOCATION:Academy Dancehall
URL:https://www.rave.ca/event/14682/
DESCRIPTION:Come join us this Friday\,December 29th 2006\, for another Soultek session dedicated the deep and minimal side of techno.Expect to hear the best in Nu Dub\, Minimal\, Electrofunk\, Chicago deephouse\,Detroit techno\, Nu skool hip-house\, abstract urban beats\, mind boggling sounds\, warm grooves fused with expressive and energetic music.
CLASS:PUBLIC
CATEGORIES:
STATUS:CONFIRMED
PARTSTAT:ACCEPTED
END:VEVENT
END:VCALENDAR
