BEGIN:VCALENDAR
PRODID:RAVE.CA V17.0
X-WR-CALNAME:Dave O&#039;Brien &amp; Deliz
X-ORIGINAL-URL:https://www.rave.ca/event/14673/
VERSION:2.0
CALSCALE:GREGORIAN
METHOD:PUBLISH
BEGIN:VEVENT
DTSTAMP:20061215T001450Z
LAST-MODIFIED:20061215T001450Z
CREATED:20061206T120440Z
SEQUENCE:14673
ORGANIZER:NCV
DTSTART:20070111T220000Z
DTEND:20070111T220000Z
UID:event_14673@rave.ca
SUMMARY:Dave O'Brien & Deliz
LOCATION:Kafein
URL:https://www.rave.ca/event/14673/
DESCRIPTION:
CLASS:PUBLIC
CATEGORIES:
STATUS:CONFIRMED
PARTSTAT:ACCEPTED
END:VEVENT
END:VCALENDAR
