BEGIN:VCALENDAR
PRODID:RAVE.CA V17.0
X-WR-CALNAME:Cradle fo filth
X-ORIGINAL-URL:https://www.rave.ca/event/14655/
VERSION:2.0
CALSCALE:GREGORIAN
METHOD:PUBLISH
BEGIN:VEVENT
DTSTAMP:20061205T045758Z
LAST-MODIFIED:20061205T045758Z
CREATED:20061205T045518Z
SEQUENCE:14655
ORGANIZER:Unknown
DTSTART:20070127T193000Z
DTEND:20070127T193000Z
UID:event_14655@rave.ca
SUMMARY:Cradle fo filth
LOCATION:Théatre du Capitole
URL:https://www.rave.ca/event/14655/
DESCRIPTION:Première partie: The 69 eyes et un autre a venir
CLASS:PUBLIC
CATEGORIES:
STATUS:CONFIRMED
PARTSTAT:ACCEPTED
END:VEVENT
END:VCALENDAR
