BEGIN:VCALENDAR
PRODID:RAVE.CA V17.0
X-WR-CALNAME:XMAS Stereo
X-ORIGINAL-URL:https://www.rave.ca/event/14584/
VERSION:2.0
CALSCALE:GREGORIAN
METHOD:PUBLISH
BEGIN:VEVENT
DTSTAMP:20061125T191750Z
LAST-MODIFIED:20061125T191750Z
CREATED:20061124T224403Z
SEQUENCE:14584
ORGANIZER:Unknown
DTSTART:20061225T020000Z
DTEND:20061225T020000Z
UID:event_14584@rave.ca
SUMMARY:XMAS Stereo
LOCATION:Stereo
URL:https://www.rave.ca/event/14584/
DESCRIPTION:
CLASS:PUBLIC
CATEGORIES:
STATUS:CONFIRMED
PARTSTAT:ACCEPTED
END:VEVENT
END:VCALENDAR
