BEGIN:VCALENDAR
PRODID:RAVE.CA V17.0
X-WR-CALNAME:Intense 2007
X-ORIGINAL-URL:https://www.rave.ca/event/14572/
VERSION:2.0
CALSCALE:GREGORIAN
METHOD:PUBLISH
BEGIN:VEVENT
DTSTAMP:20061230T013646Z
LAST-MODIFIED:20061230T013646Z
CREATED:20061124T181907Z
SEQUENCE:14572
ORGANIZER:Old School
DTSTART:20061231T190000Z
DTEND:20070101T120000Z
UID:event_14572@rave.ca
SUMMARY:Intense 2007
LOCATION:Unknown
URL:https://www.rave.ca/event/14572/
DESCRIPTION:
CLASS:PUBLIC
CATEGORIES:
STATUS:CONFIRMED
PARTSTAT:ACCEPTED
END:VEVENT
END:VCALENDAR
