BEGIN:VCALENDAR
PRODID:RAVE.CA V17.0
X-WR-CALNAME:Technoel
X-ORIGINAL-URL:https://www.rave.ca/event/14566/
VERSION:2.0
CALSCALE:GREGORIAN
METHOD:PUBLISH
BEGIN:VEVENT
DTSTAMP:20061203T121525Z
LAST-MODIFIED:20061203T121525Z
CREATED:20061123T131305Z
SEQUENCE:14566
ORGANIZER:Unknown
DTSTART:20061225T210000Z
DTEND:20061225T210000Z
UID:event_14566@rave.ca
SUMMARY:Technoel
LOCATION:L’Agitée - 251 rue Dorchester
URL:https://www.rave.ca/event/14566/
DESCRIPTION:Les productions Drunken Bastardz sont fiers de vous présenter\, une fois de plus cette année dans le cadre de la semaine Intense\, le Technoel le 25 décembre. Veuillez noter que nous changeons un peu la recette Technoel cette année pour évoluer du traditionnel Acid\, qui nous a fait frémir pendant tant d'années\; pour transiger vers un son plus actuel\, et venant de ma part\, il ne faut pas s'attendre a autre chose que du bon hardstyle bien gras . \n\nMais afin que les nouveaux connaisseurs ne s'y sentent pas trop perdus\, nous opterons pour du hardstyle à la sauce 303\, histoire de plaire aussi aux traditionnels amateurs de acid! Quelle belle transition!!!
CLASS:PUBLIC
CATEGORIES:
STATUS:CONFIRMED
PARTSTAT:ACCEPTED
END:VEVENT
END:VCALENDAR
