BEGIN:VCALENDAR
PRODID:RAVE.CA V17.0
X-WR-CALNAME:Dj Faithfull (Mtl/Morocco/djfaithfull.com)
X-ORIGINAL-URL:https://www.rave.ca/event/14563/
VERSION:2.0
CALSCALE:GREGORIAN
METHOD:PUBLISH
BEGIN:VEVENT
DTSTAMP:20070525T132418Z
LAST-MODIFIED:20070525T132418Z
CREATED:20061123T021747Z
SEQUENCE:14563
ORGANIZER:Coco Entertainment Canada
DTSTART:20061124T220000Z
DTEND:20061124T030000Z
UID:event_14563@rave.ca
SUMMARY:Dj Faithfull (Mtl/Morocco/djfaithfull.com)
LOCATION:1234\, Club
URL:https://www.rave.ca/event/14563/
DESCRIPTION:After two mind blowing performances DJ Faithfull from Morocco and Montreal is back Club 1234 this upcoming Friday November 24th. For those of you who have previously attended the nigth you all know something special is going to happen. This time around we have invited the Magik Art Trapeze girls for very exciting show. Hope to see some of you there!!\n\nGueslist is available for ladies only (name+2 format) email info@cocoentertainmentcanada.com\n\nor\n\nTable Reservations (No Cover\, No line up\, Min 2 bottles) email info@cocoentertainmentcanada.com\n\n21+ I.D. Required\nDress to Impress\nCover: $12\n\nwww.cocoentertainment.ca\nwww.myspace.com/cocoentertainment\nwww.djfaithfull.com\nwww.myspace.com/djfaithfulllive\nwww.house-pacifique.com\nwww.magik-art-trapeze.com\nwww.myspace.com/magikarttrapeze
CLASS:PUBLIC
CATEGORIES:
STATUS:CONFIRMED
PARTSTAT:ACCEPTED
END:VEVENT
END:VCALENDAR
