BEGIN:VCALENDAR
PRODID:RAVE.CA V17.0
X-WR-CALNAME:St-Breakin&#039; Time-iDJ loves u
X-ORIGINAL-URL:https://www.rave.ca/event/14557/
VERSION:2.0
CALSCALE:GREGORIAN
METHOD:PUBLISH
BEGIN:VEVENT
DTSTAMP:20070524T170247Z
LAST-MODIFIED:20070524T170247Z
CREATED:20061122T104734Z
SEQUENCE:14557
ORGANIZER:IDJ Family
DTSTART:20070210T220000Z
DTEND:20070210T220000Z
UID:event_14557@rave.ca
SUMMARY:St-Breakin' Time-iDJ loves u
LOCATION:Centre Fractal
URL:https://www.rave.ca/event/14557/
DESCRIPTION:iDJ/Mont-Trill presents \nSt-Breakin'Time-iDj loves u \n6th edition of the Breakin' events \n5$ at the door only\, no guestlist\n10 pm to 7 am \nintimate/friendly vibes\n@ Centre Fractal\nBreaks\, Drum&Bass\, Electro and more\n\nwith djs \nspecial guests \;\nPINKY 38 (Frogland Breakers\, Hardsteppers)\ntags \nSPACEKADET (Frogland Breakers)\n\nand\nOMNI (Akarien Prods.)\n\nand BREAKIN' regulars \;\nAXIONFIGGA (The High Commission\, Mont-Trill)\nGALAKSY (Freak Addiction Krew\, Mont-Trill)\nNITROUS (Kracked Knuckles\, InDaJungle Recordings)\nBASSIC (Twisted Bass\, K-O)\nRAVEDAVE (Twisted Wave)
CLASS:PUBLIC
CATEGORIES:
STATUS:CONFIRMED
PARTSTAT:ACCEPTED
END:VEVENT
END:VCALENDAR
