BEGIN:VCALENDAR
PRODID:RAVE.CA V17.0
X-WR-CALNAME:Tiesto, Armin Van Buuren, Guy Ornadel
X-ORIGINAL-URL:https://www.rave.ca/event/1453/
VERSION:2.0
CALSCALE:GREGORIAN
METHOD:PUBLISH
BEGIN:VEVENT
DTSTAMP:20040603T000000Z
LAST-MODIFIED:20040603T000000Z
CREATED:20030613T000000Z
SEQUENCE:1453
ORGANIZER:Unknown
DTSTART:20030613T000000Z
DTEND:20030613T000000Z
UID:event_1453@rave.ca
SUMMARY:Tiesto\, Armin Van Buuren\, Guy Ornadel
LOCATION:Aria\, Afterhours
URL:https://www.rave.ca/event/1453/
DESCRIPTION:Tiesto\, Armin Van buuren\, and Guy Ornadel @ Aria!! Don't miss this one!!! # 1\, 2\, and 3 will be there!!! 
CLASS:PUBLIC
CATEGORIES:
STATUS:CONFIRMED
PARTSTAT:ACCEPTED
END:VEVENT
END:VCALENDAR
