BEGIN:VCALENDAR
PRODID:RAVE.CA V17.0
X-WR-CALNAME:K.O. Twisted Edition
X-ORIGINAL-URL:https://www.rave.ca/event/14492/
VERSION:2.0
CALSCALE:GREGORIAN
METHOD:PUBLISH
BEGIN:VEVENT
DTSTAMP:20070529T212011Z
LAST-MODIFIED:20070529T212011Z
CREATED:20061114T164734Z
SEQUENCE:14492
ORGANIZER:Beat Concierge
DTSTART:20061202T000000Z
DTEND:20061203T030000Z
UID:event_14492@rave.ca
SUMMARY:K.O. Twisted Edition
LOCATION:Cafe Chaos
URL:https://www.rave.ca/event/14492/
DESCRIPTION:Twisted Bass in collaboration with Beat Consierge presents: K.O. at Cafe Chaos!
CLASS:PUBLIC
CATEGORIES:
STATUS:CONFIRMED
PARTSTAT:ACCEPTED
END:VEVENT
END:VCALENDAR
