BEGIN:VCALENDAR
PRODID:RAVE.CA V17.0
X-WR-CALNAME:Marco G &amp; Miguel Graca
X-ORIGINAL-URL:https://www.rave.ca/event/14476/
VERSION:2.0
CALSCALE:GREGORIAN
METHOD:PUBLISH
BEGIN:VEVENT
DTSTAMP:20061126T114118Z
LAST-MODIFIED:20061126T114118Z
CREATED:20061113T051002Z
SEQUENCE:14476
ORGANIZER:Unknown
DTSTART:20061125T000000Z
DTEND:20061125T000000Z
UID:event_14476@rave.ca
SUMMARY:Marco G & Miguel Graca
LOCATION:Aria\, Afterhours
URL:https://www.rave.ca/event/14476/
DESCRIPTION:
CLASS:PUBLIC
CATEGORIES:
STATUS:CONFIRMED
PARTSTAT:ACCEPTED
END:VEVENT
END:VCALENDAR
