BEGIN:VCALENDAR
PRODID:RAVE.CA V17.0
X-WR-CALNAME:Maus, Miguel Graca
X-ORIGINAL-URL:https://www.rave.ca/event/14475/
VERSION:2.0
CALSCALE:GREGORIAN
METHOD:PUBLISH
BEGIN:VEVENT
DTSTAMP:20061113T054214Z
LAST-MODIFIED:20061113T054214Z
CREATED:20061112T224919Z
SEQUENCE:14475
ORGANIZER:Unknown
DTSTART:20061111T000000Z
DTEND:20061111T000000Z
UID:event_14475@rave.ca
SUMMARY:Maus\, Miguel Graca
LOCATION:Aria\, Afterhours
URL:https://www.rave.ca/event/14475/
DESCRIPTION:
CLASS:PUBLIC
CATEGORIES:
STATUS:CONFIRMED
PARTSTAT:ACCEPTED
END:VEVENT
END:VCALENDAR
