BEGIN:VCALENDAR
PRODID:RAVE.CA V17.0
X-WR-CALNAME:Psycore II
X-ORIGINAL-URL:https://www.rave.ca/event/14471/
VERSION:2.0
CALSCALE:GREGORIAN
METHOD:PUBLISH
BEGIN:VEVENT
DTSTAMP:20070108T162904Z
LAST-MODIFIED:20070108T162904Z
CREATED:20061111T051516Z
SEQUENCE:14471
ORGANIZER:Lezarium Production
DTSTART:20070113T000000Z
DTEND:20070113T000000Z
UID:event_14471@rave.ca
SUMMARY:Psycore II
LOCATION:Centre Fractal
URL:https://www.rave.ca/event/14471/
DESCRIPTION:
CLASS:PUBLIC
CATEGORIES:
STATUS:CONFIRMED
PARTSTAT:ACCEPTED
END:VEVENT
END:VCALENDAR
