BEGIN:VCALENDAR
PRODID:RAVE.CA V17.0
X-WR-CALNAME:Marinelli, Romeo Kardec, Sean Kosa
X-ORIGINAL-URL:https://www.rave.ca/event/14469/
VERSION:2.0
CALSCALE:GREGORIAN
METHOD:PUBLISH
BEGIN:VEVENT
DTSTAMP:20090308T144630Z
LAST-MODIFIED:20090308T144630Z
CREATED:20061110T135155Z
SEQUENCE:14469
ORGANIZER:Unknown
DTSTART:20061118T220000Z
DTEND:20061119T080000Z
UID:event_14469@rave.ca
SUMMARY:Marinelli\, Romeo Kardec\, Sean Kosa
LOCATION:La Galerie
URL:https://www.rave.ca/event/14469/
DESCRIPTION:Crack Pipe Boogie presents \nA night of sweet electro madness and art exhibition held in a loft with crazy deco and fun flavor freshness.\n\naudio mixed by:\n\n~Marinelli\n~Romeo Kardec\n~Sean Kosa\n\nDrink specials and all that jazz...I mean electro!
CLASS:PUBLIC
CATEGORIES:
STATUS:CONFIRMED
PARTSTAT:ACCEPTED
END:VEVENT
END:VCALENDAR
