BEGIN:VCALENDAR
PRODID:RAVE.CA V17.0
X-WR-CALNAME:SUGR
X-ORIGINAL-URL:https://www.rave.ca/event/14452/
VERSION:2.0
CALSCALE:GREGORIAN
METHOD:PUBLISH
BEGIN:VEVENT
DTSTAMP:20070524T185733Z
LAST-MODIFIED:20070524T185733Z
CREATED:20061107T163737Z
SEQUENCE:14452
ORGANIZER:Akarien Productions & Management
DTSTART:20070217T220000Z
DTEND:20070217T220000Z
UID:event_14452@rave.ca
SUMMARY:SUGR
LOCATION:Theatre Sans-Fil
URL:https://www.rave.ca/event/14452/
DESCRIPTION:Akarien et H2O Productions vous mettent l’eau à la bouche avec l’événement de la St-Valentin le plus sucré en ville : SUGR!  Cette nuit blanche sera divisée en différents volets tels les arts et la musique\, le tout\, présenté dans une ambiance festive ou l’amour est à l’honneur.  Le volet musical sera divisé en deux parties\, le salon rouge ayant pour thème l’électro\, ainsi que le salon bleu\, sous le thème de la trance et de la techno. Pour agrémenter le volet artistique\, une collection de toiles sera exposée et un décor conceptuel pour chaque salon sera aménagé en collaboration avec les Ateliers JD.  Pour terminer\, la crème de nos artistes locaux prendront d’assaut les platines et les projecteurs afin de divertir vos sens qui vous propulseront vers un orgasme auditif et visuel.  Venez célébrer la fête de l’amour en notre compagnie et passé la nuit la plus ‘’Sweet’’ de la métropole!!!
CLASS:PUBLIC
CATEGORIES:
STATUS:CONFIRMED
PARTSTAT:ACCEPTED
END:VEVENT
END:VCALENDAR
