BEGIN:VCALENDAR
PRODID:RAVE.CA V17.0
X-WR-CALNAME:Raves&#039;r&#039;us
X-ORIGINAL-URL:https://www.rave.ca/event/14436/
VERSION:2.0
CALSCALE:GREGORIAN
METHOD:PUBLISH
BEGIN:VEVENT
DTSTAMP:20070202T043007Z
LAST-MODIFIED:20070202T043007Z
CREATED:20061104T194355Z
SEQUENCE:14436
ORGANIZER:Project Mayhem
DTSTART:20070202T220000Z
DTEND:20070203T073000Z
UID:event_14436@rave.ca
SUMMARY:Raves'r'us
LOCATION:Centre Fractal
URL:https://www.rave.ca/event/14436/
DESCRIPTION:Project Mayhem presents Raves'r'us on february 2nd 2007\, to celebrate Le D's 24th bday! If you love happy hardcore\, then you're not gonna want to miss this one.
CLASS:PUBLIC
CATEGORIES:
STATUS:CONFIRMED
PARTSTAT:ACCEPTED
END:VEVENT
END:VCALENDAR
