BEGIN:VCALENDAR
PRODID:RAVE.CA V17.0
X-WR-CALNAME:House Of Ghost
X-ORIGINAL-URL:https://www.rave.ca/event/14355/
VERSION:2.0
CALSCALE:GREGORIAN
METHOD:PUBLISH
BEGIN:VEVENT
DTSTAMP:20061030T082903Z
LAST-MODIFIED:20061030T082903Z
CREATED:20061028T213348Z
SEQUENCE:14355
ORGANIZER:Unknown
DTSTART:20061028T220000Z
DTEND:20061028T220000Z
UID:event_14355@rave.ca
SUMMARY:House Of Ghost
LOCATION:Chill Montreal
URL:https://www.rave.ca/event/14355/
DESCRIPTION:une party d'halloween house et techno avec dj invités surprises
CLASS:PUBLIC
CATEGORIES:
STATUS:CONFIRMED
PARTSTAT:ACCEPTED
END:VEVENT
END:VCALENDAR
