BEGIN:VCALENDAR
PRODID:RAVE.CA V17.0
X-WR-CALNAME:Emily Haine de Metric @ Theatre Outremont
X-ORIGINAL-URL:https://www.rave.ca/event/14343/
VERSION:2.0
CALSCALE:GREGORIAN
METHOD:PUBLISH
BEGIN:VEVENT
DTSTAMP:20061025T162446Z
LAST-MODIFIED:20061025T162446Z
CREATED:20061025T162303Z
SEQUENCE:14343
ORGANIZER:Unknown
DTSTART:20070104T000000Z
DTEND:20070104T000000Z
UID:event_14343@rave.ca
SUMMARY:Emily Haine de Metric @ Theatre Outremont
LOCATION:Theatre Outremont
URL:https://www.rave.ca/event/14343/
DESCRIPTION:Haines fera la promotion de son premier effort solo\, un opus intitulé «Knives Don't Have Your Back». Elle sera entourée sur scène par le batteur Scott Minor de Sparklehorse et le bassiste Paul Dillon\, des musiciens de son groupe Soft Skelton qui l'accompagnent sur ce disque. \n\nLe spectacle sera agrémenté par des projections du réalisateur Guy Maddin. \n\nOn ne connaît pas les détails de la mise en vente des billets.
CLASS:PUBLIC
CATEGORIES:
STATUS:CONFIRMED
PARTSTAT:ACCEPTED
END:VEVENT
END:VCALENDAR
