BEGIN:VCALENDAR
PRODID:RAVE.CA V17.0
X-WR-CALNAME:Le Bal Masqué du Loft
X-ORIGINAL-URL:https://www.rave.ca/event/14329/
VERSION:2.0
CALSCALE:GREGORIAN
METHOD:PUBLISH
BEGIN:VEVENT
DTSTAMP:20061023T134157Z
LAST-MODIFIED:20061023T134157Z
CREATED:20061023T132801Z
SEQUENCE:14329
ORGANIZER:Unknown
DTSTART:20061028T110000Z
DTEND:20061029T090000Z
UID:event_14329@rave.ca
SUMMARY:Le Bal Masqué du Loft
LOCATION:sherbrooke
URL:https://www.rave.ca/event/14329/
DESCRIPTION:Méga Loft Production présente sont 3ième évènements à saveur électronique et drum & bass. Fêtez l'halloween masqué avec nous!! Pour plus d'info : undanin@hotmail.com
CLASS:PUBLIC
CATEGORIES:
STATUS:CONFIRMED
PARTSTAT:ACCEPTED
END:VEVENT
END:VCALENDAR
