BEGIN:VCALENDAR
PRODID:RAVE.CA V17.0
X-WR-CALNAME:Eclipse 2007: Electronic Music Festival
X-ORIGINAL-URL:https://www.rave.ca/event/14326/
VERSION:2.0
CALSCALE:GREGORIAN
METHOD:PUBLISH
BEGIN:VEVENT
DTSTAMP:20070708T063332Z
LAST-MODIFIED:20070708T063332Z
CREATED:20061023T010540Z
SEQUENCE:14326
ORGANIZER:Tech Safari
DTSTART:20070727T130000Z
DTEND:20070731T080000Z
UID:event_14326@rave.ca
SUMMARY:Eclipse 2007: Electronic Music Festival
LOCATION:Unknown
URL:https://www.rave.ca/event/14326/
DESCRIPTION:JULY 27-28-29-30\n\n\nTech Safari and Sumkidz (OM festival) are proud to present the major \nelectronic and acoustic music festival Eclipse 2007. This year\, the \nfestival will be held in the beautiful Appalachian mountain chain\, \nsouth-ouest of the Quebec province. The now mythic outdoor event \nwill take place from july 27th to 30th at the delightful green \nspaces of Mont Radar’s ecovillage located in St-Sylvestre.\n\nThe festival is an international gathering of visual and musical art \nwhere artists\, local and foreign dancers or campers share a full \nmoon weekend. This 7th edition proposes a symbiosis of dance\, open \nphilosophies\, performance art\, human (and spiritual) experiences set \nup in an enchanting environment. The party not to miss this summer.\n\n\n\npaix  et soleil!\n\n-Tech Safari team\n\n~ full moon weekend for dance\, music\, art and peace ~\n\nArtist confirmed!\n\n---:::::Main Stage::::::---\n\nKOX BOX LIVE!\nTwisted records)\nDenmark\nhttp://www.koxbox.dk\n\nPIXEL LIVE! + DJ SET \n(HOMmega productions) \nIsrael                                                     http://www.myspace.com/pixelon \n\nPROTOCULTURE LIVE!\n(Nano records. South Africa)\nhttp://www.nanorecords.com\n\nTEGMA LIVE! (+ DJ set)\nTribal Vision records\nMalmoe/Sweden\nhttp://tegmatekk.com\n\nDJ FRANK'E\n(Kox Box.Twisted records)\nIbiza/Spain\nhttp://www.myspace.com/koxbox303 \n\nDJ JAMES MONRO   (3hrs DJ set)\n(Tropical Beats. Flying Rhino records) UK                                                         \nhttp://www.myspace.com/djjamesmonro \n\nDJ NATE RAUBENHEIMER\n(Nano records. South Africa)\n\nDJ SENTIENT\n(California. USA)\n1ST appearance in Canada\nhttp://www.vaporvent.com/home/content/view/20/45/\n\nORBIT LIVE!\nAlladin records. Israel/Japan\n1st appearance in Canada\n\nDJ KNOB\nAlladin records\nJapan\n1st appearance in Canada\n\nDJ ELNADIV\nAlladin records\nNew York / Israel\n1st appearance in Canada\n\nMETALOGIC LIVE!\n(Boshke Beats. Toronto)\nhttp://www.boshkebeats.com\n\n\n\nFULL LINE UP ::::\nFULL LINE UP: \n\nMAIN FLOOR::: \n\nIn front the beach! \n\nKoxbox live! (Twisted rds. Denmark) \nPixel live! (HOMmega. Israel) + DJ set! \nProtoculture live! (Nano rds. South Africa) \nTegma live! (Tribal Vision rds. Sweden) + DJ set! \nMetalogic live ! feat DJ Jamie Kidd (Boshke Beats rds. Toronto) \nOrbit live! (Alladin records. Japan / Israel) \nFM Radio Gods live! (Attitude. Spaceport. Cold Groove. Montreal) \nKodeSix live! (Last possible solution. Phonolite.ca. Montreal) \nAzriel live! (Avigmati rds. NVX.Quebec/France) \nDJ James Monro (Tropical Beats. Fying Rhino. UK) 3 hours DJ set! * \nDJ Frank e ( Twisted rds. Ibiza / Spain) \nDJ Nate Raubenheimer (Nano records. Captown/South Africa)\nDJ Sentient (Vaporvent.com\, California. USA) \nDJ Audio Architect (British Columbia) \nDJ Baya (Les Passagers. Montreal) \nDJ Elnadiv (Alladin project.Israel) \nDJ Galaksy (Freak Addiction krew. Mont-thrill. IDJ. Montreal) \nDJ Horizon (24/7 media. Event Horizon. UK / Canada) \nDJ Jeremy R. (Cold Groove rds. BLA. Montreal) \nDJ Kno-B (Alladin records. Japan) \nDJ Longstocking (Syzygy. Godizus. Montreal) \nDJ Mini (Audio Hygiene. Parking. Montreal) \nDJ Mythril (Deliria.org. British Columbia) \nDJ Quivering Virgin ( BLA. Cold Groove. Toronto) \nDJ Rickam (Neurobiotic records. Tech Safari. Montreal) \nDJ Stefan (Elements. Montreal) \nDJ Tenzin (Tech Safari. Montreal) \nDJ Yann (Ultra Groove records. Tech Safari. Montreal) \n\n\nCHILL OUT::::ALTERNATIVE FLOOR \n PERFORMING ON SOLAR POWERED GOODNESS SUMZONE: \n\n\nDJ James Monro (Tropical Beats. Flying Rhino rds. UK) \nAstral Waves live! ( aka DJ zen / Sunline rds. Inverness. QC) \nJohn K live! + DJ set (Sumkidz. Toronto) \nLegion of Green Men DJ set ( Interchill. Post Contemporary. Toronto) \nZumba live! + DJ set ( Sumkidz.Toronto) \nDJ AIA (Toronto) \nDJ Aquarius (Syzygy. Montreal) \nDJ Felix (Germany) \nDJ Karma (Sumkidz. Toronto) \nDJ Kristian Sunflower (Hotpierecords.com / Toronto) \nDJ Mat THC (Tech Safari. St-Jérôme) \nDJ Mike Lambert (Sumkidz. Toronto) \nDJ Mythril (Deliria.org. British Columbia) \nDJ Neerav (Interchill rds. Montreal) \nDJ OmShanti (Electronicsoundscapes.com . Montreal) \nDJ Quivering Virgin (BLA. Cold Groove reds. Toronto) \nDJ Rollin Cash ( hotpierecords.com . Toronto) \nDJ Sinae (Mofarlo Family. Montreal) \nDJ Siren (Sumkidz . Toronto) \nDJ Spazzmonk (Toronto) \nDJ Violet (Sumkidz. Toronto) \n\n\nMULTI SCREEN AND HYPNOTIC VISUAL EXPERIMENTATION BY: \n\nLes Passagers ( http://www.epsilonlab.com ) \nCafrine ( http://www.vitaminecat.ca ) \nFaust ( http://www.eresys.ca ) \nCreatedchange ( http://www.create-change.org ) \nSiren Sativa (Sumkidz) \nZumba (Sumkidz) \nRemi Lacoste (Montreal)\n\nMIND BLOWING ENVIRONNMENT AND PSYCHEDELIC PAINTINGS BY FELIX STOEVER ( www.felix-stoever.de Germany)\nGot prepared to admire the psychedelic works of this german artist inspired by nature and urbanity.\n\nMASSIVE INSTALLATIONS BY SOLAR DELIRIA FROM MEXICO\n( http://www.deliria.org/deco/index.htm )\nRecognized and appreciated internationally (BOOM festival in Portugal\, VOOV in Germany\, SONICA in Italy) Solar will astonish you with his gigantic art installations!\n\nFIRE PERFORMANCE AND CIRCUS PERFORMANCE BY ATOMIC WEIGHT\nFROM MEXICO / CANADA  ( Playa del Carmen / Montreal)\nhttp://www.myspace.com/atomicweight + ATOMYSTIK ( aka Mystica.  Montreal. Canada / www.myspace.com/atomystik )\n\n[img]http://www.eclipsefestival.com/banner/eclipse_2007.gif[/img]
CLASS:PUBLIC
CATEGORIES:
STATUS:CONFIRMED
PARTSTAT:ACCEPTED
END:VEVENT
END:VCALENDAR
